BEGIN:VCALENDAR
VERSION:2.0
PRODID:-//ExpressionEngine Easy iCalendar plugin//NONSGML v2.0.1//EN
X-WR-TIMEZONE:America/New_York
X-WR-CALNAME:Upcoming Auctions
BEGIN:VEVENT
UID:147481
DTSTAMP:20251003T130000
DTSTART:20251003T130000
DTEND:20251003T140000
SUMMARY:COMICS\, COLLECTIBLES\, CARDS - MASSIVE AUCTION
LOCATION:{location}
DESCRIPTION:COMICS\, STATUES\, COLLECTIBLES\, CARDS & MORE - 700+ LOTS MARV
 EL\, DC\, SILVER AGE\, STATUES\, MODERN VARIANTS\, GRADED COMICS\,
  SIGNED MEMORABILIA\, POKEMON CARDS\, GRADED SPORTS CARDS\, FUN
 KOS\, & MORE **SHIPPING AVAILABLE ON ALL LOTS**
URL:https://shieldandgavel.bwpreview.com/auctions/detail/bw14748
 1
SEQUENCE:1
END:VEVENT
END:VCALENDAR