BEGIN:VCALENDAR
VERSION:2.0
PRODID:-//ExpressionEngine Easy iCalendar plugin//NONSGML v2.0.1//EN
X-WR-TIMEZONE:America/New_York
X-WR-CALNAME:Upcoming Auctions
BEGIN:VEVENT
UID:148218
DTSTAMP:20250919T120500
DTSTART:20250919T120500
DTEND:20250919T130500
SUMMARY:ESTATES - JEWELRY\, MEMORABILIA\, COLLECTIBLES & MORE
LOCATION:{location}
DESCRIPTION:ABSOLUTE AUCTION - MULTIPLE LOCATIONS TENNIS CLUB RENOVATION
  @ THE OCEAN CLUB - KEY BISCAYNE JEWELRY\, ANTIQUES\, SPORTS M
 EMORABILIA\, COLLECTIBLES & MORE - FROM MULTIPLE ESTATES **SH
 IPPING AVAILABLE ON ALL LOTS (non-furniture)**
URL:https://shieldandgavel.bwpreview.com/auctions/detail/bw14821
 8
SEQUENCE:1
END:VEVENT
END:VCALENDAR