BEGIN:VCALENDAR
VERSION:2.0
PRODID:-//ExpressionEngine Easy iCalendar plugin//NONSGML v2.0.1//EN
X-WR-TIMEZONE:America/New_York
X-WR-CALNAME:Upcoming Auctions
BEGIN:VEVENT
UID:148599
DTSTAMP:20250929T150000
DTSTART:20250929T150000
DTEND:20250929T160000
SUMMARY:ESTATE AUCTION - ARTWORK\, COLLECTIBLES\, LEATHER FURNITURE & 
 MORE
LOCATION:{location}
DESCRIPTION:ESTATE AUCTION - MIAMI\, FLORIDA - ABSOLUTE AUCTION LEATHER F
 URNITURE - OIL PAINTINGS - DECOR - WINE - CRYSTAL/GLASS - 55
 " TELEVISION - YAMAHA SOUND BAR -  BEDROOM FURNITURE & SO M
 UCH MORE **SHIPPING AVAILABLE ON ALL SMALL LOTS** 
URL:https://shieldandgavel.bwpreview.com/auctions/detail/bw14859
 9
SEQUENCE:1
END:VEVENT
END:VCALENDAR