BEGIN:VCALENDAR
VERSION:2.0
PRODID:-//ExpressionEngine Easy iCalendar plugin//NONSGML v2.0.1//EN
X-WR-TIMEZONE:America/New_York
X-WR-CALNAME:Upcoming Auctions
BEGIN:VEVENT
UID:149027
DTSTAMP:20251009T130000
DTSTART:20251009T130000
DTEND:20251009T140000
SUMMARY:MOTORCYCLES\, VEHICLES\, GENERAL MERCHANDISE +
LOCATION:{location}
DESCRIPTION:ABSOLUTE AUCTION - (MULTIPLE LOCATIONS) - SOUTH FLORIDA HARL
 EY DAVIDSON - JAGUAR - COLLECTIBLES - TOOLS - GENERAL MERCHA
 NDISE - KNIFES - CLOTHING - AUTOMOTIVE - ELECTRONICS - & SO 
 MUCH MORE! ***SHIPPING AVAILABLE ON ALL SMALL / NON-FURNITUR
 E LOTS***
URL:https://shieldandgavel.bwpreview.com/auctions/detail/bw14902
 7
SEQUENCE:1
END:VEVENT
END:VCALENDAR