BEGIN:VCALENDAR
VERSION:2.0
PRODID:-//ExpressionEngine Easy iCalendar plugin//NONSGML v2.0.1//EN
X-WR-TIMEZONE:America/New_York
X-WR-CALNAME:Upcoming Auctions
BEGIN:VEVENT
UID:149625
DTSTAMP:20251027T113000
DTSTART:20251027T113000
DTEND:20251027T123000
SUMMARY:COMICS\, COLLECTIBLES\, STATUES\, FUNKO+
LOCATION:{location}
DESCRIPTION:COMICS & COLLECTIBLES - SIGNED COMICS / MEMORABILIA - FUNKO 
 POPS - DIAMOND SELECT STATUES & MORE MARVEL - DC - POKEMON -
  CGC GRADED COMICS - KEYS & MORE ***SHIPPING AVAILABLE ON AL
 L LOTS***
URL:https://shieldandgavel.bwpreview.com/auctions/detail/bw14962
 5
SEQUENCE:1
END:VEVENT
END:VCALENDAR