BEGIN:VCALENDAR
VERSION:2.0
PRODID:-//ExpressionEngine Easy iCalendar plugin//NONSGML v2.0.1//EN
X-WR-TIMEZONE:America/New_York
X-WR-CALNAME:Upcoming Auctions
BEGIN:VEVENT
UID:150459
DTSTAMP:20251028T120300
DTSTART:20251028T120300
DTEND:20251028T130300
SUMMARY:ESTATE - ANTIQUES\, COLLECTIBLES\, GENERAL MERCH +
LOCATION:{location}
DESCRIPTION:400+ LOTS - ESTATE LOTS - MULTIPLE CONSIGNORS - PEMBROKE PIN
 ES\, FL VINTAGE 1950'S UP TO MODERN BASEBALL CARDS - JOHN DEE
 RE ZERO TURN MOWERS - STIHL / ECHO TRIMMERS\, BLOWERS\, COLLEC
 TIBLES\, ANTIQUE QUILTS - POKEMON CARDS - AMMUNITION - VINTAG
 E ITEMS - GENERAL MERCHANDISE - & SO MUCH MORE **SHIPPING AV
 AILABLE ON ALL LOTS**
URL:https://shieldandgavel.bwpreview.com/auctions/detail/bw15045
 9
SEQUENCE:1
END:VEVENT
END:VCALENDAR