BEGIN:VCALENDAR
VERSION:2.0
PRODID:-//ExpressionEngine Easy iCalendar plugin//NONSGML v2.0.1//EN
X-WR-TIMEZONE:America/New_York
X-WR-CALNAME:Upcoming Auctions
BEGIN:VEVENT
UID:150747
DTSTAMP:20251106T130000
DTSTART:20251106T130000
DTEND:20251106T140000
SUMMARY:COMICS & COLLECTIBLES - 600+ LOTS
LOCATION:{location}
DESCRIPTION:COMICS & COLLECTIBLES - 700+ LOTS MARVEL\, DC\, SILVER AGE\, MO
 DERN \, KEYS\, MINOR KEYS\, RUNS\, GRAPHIC NOVELS\, STATUES\, FUNK
 OS\, TRADING CARDS\, GRADED COMICS\, SIGNED POSTERS / COMICS & 
 MORE **SHIPPING AVAILABLE ON ALL LOTS**
URL:https://shieldandgavel.bwpreview.com/auctions/detail/bw15074
 7
SEQUENCE:1
END:VEVENT
END:VCALENDAR