BEGIN:VCALENDAR
VERSION:2.0
PRODID:-//ExpressionEngine Easy iCalendar plugin//NONSGML v2.0.1//EN
X-WR-TIMEZONE:America/New_York
X-WR-CALNAME:Upcoming Auctions
BEGIN:VEVENT
UID:151560
DTSTAMP:20251114T140000
DTSTART:20251114T140000
DTEND:20251114T150000
SUMMARY:ESTATE / GENERAL MERCHANDISE - 400+ LOTS
LOCATION:{location}
DESCRIPTION:ABSOLUTE AUCTION - ESTATE LOTS\, GENERAL MERCHANDISE\, ETC POW
 ER TOOLS\, ANTIQUES\, COLLECTIBLES\, ELECTRONICS\, AUTOMOTIVE PA
 RTS / SUPPLIES\, MARINE SUPPLIES\, TOYS\, VINTAGE ITEMS\, LP REC
 ORDS\, MILITARY BADGES\, HOUSEHOLD GOODS & SO MUCH MORE ****SH
 IPPING AVAILABLE ON ALL SMALL LOTS (NON-FURNITURE)*****
URL:https://shieldandgavel.bwpreview.com/auctions/detail/bw15156
 0
SEQUENCE:1
END:VEVENT
END:VCALENDAR