BEGIN:VCALENDAR
VERSION:2.0
PRODID:-//ExpressionEngine Easy iCalendar plugin//NONSGML v2.0.1//EN
X-WR-TIMEZONE:America/New_York
X-WR-CALNAME:Upcoming Auctions
BEGIN:VEVENT
UID:151865
DTSTAMP:20251208T140000
DTSTART:20251208T140000
DTEND:20251208T150000
SUMMARY:COMICS\, STATUES\, COLLECTIBLES +
LOCATION:{location}
DESCRIPTION:COMICS\, GRADED COMICS\, STATUES\, FUNKO & SO MUCH MORE BI-WEEK
 LY COLLECTIBLES AUCTIONS THROUGH END OF THE YEAR 2025!
URL:https://shieldandgavel.bwpreview.com/auctions/detail/bw15186
 5
SEQUENCE:1
END:VEVENT
END:VCALENDAR