BEGIN:VCALENDAR
VERSION:2.0
PRODID:-//ExpressionEngine Easy iCalendar plugin//NONSGML v2.0.1//EN
X-WR-TIMEZONE:America/New_York
X-WR-CALNAME:Upcoming Auctions
BEGIN:VEVENT
UID:152311
DTSTAMP:20251124T130000
DTSTART:20251124T130000
DTEND:20251124T140000
SUMMARY:ESTATE - JEWELRY\, ANTIQUES\, COLLECTIBLES +
LOCATION:{location}
DESCRIPTION:ESTATE AUCTION - COSTUME JEWELRY\, COLLECTIBLES\, ANTIQUES - 4
 00+ LOTS GLASS\, ARTWORK\, PURSES\, VINTAGE ITEMS\, BRONZE\, CRYS
 TAL\, CAMEOS\, RINGS\, NECKLACES\, STAINED GLASS LAMPS\, ELECTRON
 ICS\, FURNITURE & SO MUCH MORE! **SHIPPING AVAILABLE ON ALL L
 OTS**
URL:https://shieldandgavel.bwpreview.com/auctions/detail/bw15231
 1
SEQUENCE:1
END:VEVENT
END:VCALENDAR