BEGIN:VCALENDAR
VERSION:2.0
PRODID:-//ExpressionEngine Easy iCalendar plugin//NONSGML v2.0.1//EN
X-WR-TIMEZONE:America/New_York
X-WR-CALNAME:Upcoming Auctions
BEGIN:VEVENT
UID:155060
DTSTAMP:20260225T100500
DTSTART:20260225T100500
DTEND:20260225T110500
SUMMARY:ESTATE - NAPLES\, FL - ANTIQUES\, SLOT MACHINES\, NISSAN VAN+ D
 AY 2 OF 2
LOCATION:{location}
DESCRIPTION:ABSOLUTE AUCTION - FIREARMS\, ANTIQUES\, COLLECTIBLES & MORE C
 OMPLETE ESTATE TO BE SOLD - NAPLES\, FL - 850+ LOTS TOTAL NIS
 SAN VAN\, 5 SLOT MACHINES\, TAXIDERMY\, NAUTICAL\, CAST IRON / B
 RASS COLLECTIBLES\, SCALES\, CIGARETTE DISPENSORS\, ARTWORK\, AN
 TIQUES\, & SO MUCH MORE KIMBER\, GLOCK\, ITHACA ARMS\, MARLIN\, W
 INCHESTER\, SMITH & WESSON\, BUSHMASTER\, PALMETTO ARMORY\, SAVA
 GE ARMS\, HARRINGTON & REMINGTON\, O.F. MOSSBERG & MORE 5.56\, 
 45ACP\, .40 CAL\, 9MM\, .22\, 32-20\, 30-30 AMMO AND MAGAZINES **
 *SHIPPING AVAILABLE ON ALL (NON FURNITURE) LOTS***
URL:https://shieldandgavel.bwpreview.com/auctions/detail/bw15506
 0
SEQUENCE:1
END:VEVENT
END:VCALENDAR