BEGIN:VCALENDAR
VERSION:2.0
PRODID:-//ExpressionEngine Easy iCalendar plugin//NONSGML v2.0.1//EN
X-WR-TIMEZONE:America/New_York
X-WR-CALNAME:Upcoming Auctions
BEGIN:VEVENT
UID:155390
DTSTAMP:20260126T120000
DTSTART:20260126T120000
DTEND:20260126T130000
SUMMARY:ESTATE - TOOLS\, COLLECTIBLES\, ANTIQUES & MORE
LOCATION:{location}
DESCRIPTION:ESTATE LOTS - VINTAGE / ANTIQUES - COLLECTIBLES - TOOLS & MO
 RE LIONEL TRAIN COLLECTIBLES - POWER TOOLS - HANDBAGS - HOUS
 EHOLD GOODS - MEMORABILIA - & SO MUCH MORE ***SHIPPING AVAIL
 ABLE ON ALL LOTS**
URL:https://shieldandgavel.bwpreview.com/auctions/detail/bw15539
 0
SEQUENCE:1
END:VEVENT
END:VCALENDAR