BEGIN:VCALENDAR
VERSION:2.0
PRODID:-//ExpressionEngine Easy iCalendar plugin//NONSGML v2.0.1//EN
X-WR-TIMEZONE:America/New_York
X-WR-CALNAME:Upcoming Auctions
BEGIN:VEVENT
UID:155391
DTSTAMP:20260217T130000
DTSTART:20260217T130000
DTEND:20260217T140000
SUMMARY:ABSOLUTE - EQUIPMENT / TOOLS / PATIO FURNITURE +
LOCATION:{location}
DESCRIPTION:ABSOLUTE AUCTION - DAYTONA BEACH\, FORT MYERS\, MIAMI + CLARK 
 FORKLIFT - PATIO FURNITURE - ELECTRONICS - CAR PARTS - MOVIE
  THEATRE PROJECTORS (CHRISTIE & MORE) - HOME APPLIANCES - PO
 RTABLE AC UNITS - VENDING MACHINE - STACKING CHAIRS - & SO M
 UCH MORE ***LOTS 12\,13\, 301-333 LOCATED IN FORT MYERS***
URL:https://shieldandgavel.bwpreview.com/auctions/detail/bw15539
 1
SEQUENCE:1
END:VEVENT
END:VCALENDAR