BEGIN:VCALENDAR
VERSION:2.0
PRODID:-//ExpressionEngine Easy iCalendar plugin//NONSGML v2.0.1//EN
X-WR-TIMEZONE:America/New_York
X-WR-CALNAME:Upcoming Auctions
BEGIN:VEVENT
UID:155609
DTSTAMP:20260127T130000
DTSTART:20260127T130000
DTEND:20260127T140000
SUMMARY:SHORT NOTICE - WAREHOUSE LIQUIDATION - BOCA RATON\, FL
LOCATION:{location}
DESCRIPTION:SHORT NOTICE - BOCA RATON\, FL - WAREHOUSE LIQUIDATION MOVING
  SALE! - PALLET RACKING\, 5000LB FORKLIFT\, FLOOR CLEANING MAC
 HINES\, OFFICE FURNITURE\, POWER TOOLS\, AIR COMPRESSORS\, HANDL
 ING EQUIPMENT\,  KAYAK\, & SO MUCH MORE! **ALL MUST BE REMOVE
 D BY JAN 30th - 4pm EST - NO EXCEPTIONS**
URL:https://shieldandgavel.bwpreview.com/auctions/detail/bw15560
 9
SEQUENCE:1
END:VEVENT
END:VCALENDAR